BEGIN:VCALENDAR
VERSION:2.0
CALSCALE:GREGORIAN
PRODID:-//WordPress//RSVPMaker//EN
METHOD:REQUEST
BEGIN:VEVENT
DTSTAMP:20260424T135547Z
UID:AF5AFD7F7C807171981D443AD4F4F648@rsvpmaker.com
SEQUENCE:0
STATUS:CONFIRMED
DTSTART:20250718T160000Z
DTEND:20250718T170000Z
LOCATION:See\: https\://whiskyhorde.eu/rsvpmaker/sommer-flaschen-mix/
SUMMARY:Sommer-Flaschen-Mix
DESCRIPTION:Event info\: https\://whiskyhorde.eu/rsvpmaker/sommer-flas
 chen-mix/
END:VEVENT
END:VCALENDAR